Workbook

Sheet Page de garde
A2: Modèle de coûts de maintien en conditions opérationnelles FttH | C2: Synthèse | G2: Principes généraux d'utilisation du modèle Le modèle calcule les coûts des briques pour un réseau considéré et une année donnée. Les donnés d'entrée doivent être exprimées en euros de l'année considérée. Les caractéristiques des réseaux considérés doivent être renseignées par l’utilisateur dans l'onglet "Données par OI" (exemple : nombre moyen de PBO). Certaines données de l’onglet "Données par OI" sont préremplies (exemple : temps de trajet moyen) pour les réseaux métropolitains ayant fait l'objet d'un financement par le plan France Très Haut Débit. Ensuite l'utilisateur peut sélectionner le réseau à modéliser sur la liste déroulante en cellule E3 de l'onglet "Synthèse".
C4: 1. Données d'entrée
C6: Données générales
C8: Données par OI
C10: 2. Calculs par brique
C12: Maintenance préventive
C14: Maintenance curative
C16: GCBLO
C18: Génie civil en propre et tiers hors Orange
C20: IFER
C22: Commercialisation de gros
C24: RODP et fiscalité hors IFER | E24: Autres briques
C26: Quote-part de coûts de structure indivis
C28: Extensions

Sheet Synthèse
B3: Sélection de l'OI | E3: Altice France - Connect 76
C4: Code OI | E4: =INDEX('Données par OI'!$C$2:$C$59,MATCH(Synthèse!E3,'Données par OI'!$B$2:$B$59,0)) -> SN
B6: Résultats
C7: Coûts totaux | E7: Tout segment | F7: Segment ]NRO-PM[ | G7: Segment [PM-PTO]
D8: Maintenance préventive | E8: ='Maintenance préventive'!F19 -> 0 | F8: =INDEX('Données par OI'!$S$2:$S$58,MATCH(Synthèse!$E$4,'Données par OI'!$C$2:$C$58,0))*E8 -> 0 | G8: =E8-F8 -> 0
D9: Maintenance curative | E9: ='Maintenance curative'!F39 -> 0 | F9: =INDEX('Données par OI'!$S$2:$S$58,MATCH(Synthèse!$E$4,'Données par OI'!$C$2:$C$58,0))*E9 -> 0 | G9: =E9-F9 -> 0
D10: Commercialisation de gros | E10: ='Autres briques'!F23 -> 0 | F10: =INDEX('Données par OI'!$S$2:$S$58,MATCH(Synthèse!$E$4,'Données par OI'!$C$2:$C$58,0))*E10 -> 0 | G10: =E10-F10 -> 0
D11: Génie civil iBLO | E11: =G11+F11 -> 0 | F11: =HLOOKUP('GC Orange (iBLO)'!$D$13,'GC Orange (iBLO)'!$E$53:$AC$57,5,FALSE()) -> 0 | G11: =HLOOKUP('GC Orange (iBLO)'!$D$13,'GC Orange (iBLO)'!$E$53:$AC$57,4,FALSE()) -> 0
D12: Génie civil hors iBLO | E12: ='GC hors Orange'!F34 -> 0 | F12: =INDEX('Données par OI'!$S$2:$S$58,MATCH(Synthèse!$E$4,'Données par OI'!$C$2:$C$58,0))*E12 -> 0 | G12: =E12-F12 -> 0
D13: IFER | E13: =IFER!A14 -> 0 | F13: 0 | G13: =E13-F13 -> 0
D14: Fiscalité hors IFER et RODP | E14: ='Autres briques'!F38 -> 0 | F14: =INDEX('Données par OI'!$S$2:$S$58,MATCH(Synthèse!$E$4,'Données par OI'!$C$2:$C$58,0))*E14 -> 0 | G14: =E14-F14 -> 0
D15: Coûts de structure indivis | E15: ='Autres briques'!F45 -> 0 | F15: =INDEX('Données par OI'!$S$2:$S$58,MATCH(Synthèse!$E$4,'Données par OI'!$C$2:$C$58,0))*E15 -> 0 | G15: =E15-F15 -> 0
D16: Extensions | E16: =Extensions!F16 -> 738660.97 | F16: 0 | G16: =E16-F16 -> 738660.97
D17: Total hors enfouissements-dévoiements | E17: =SUM(E8:E16) -> 738660.97 | F17: =SUM(F8:F16) -> 0 | G17: =SUM(G8:G16) -> 738660.97

Sheet 1. Données d'entrée

Sheet Données générales
E2: Unité | F2: Valeur | G2: Commentaires
B3: Paramètres généraux
D4: Prises de la maison mère | E4: # | F4: 3000000
B7: Maintenance préventive
C8: Audits et maintenance PM
D9: Coût par intervention | E9: € | F9: 150
D10: Nombre de PM concernés | E10: nb/an/PM | F10: 3
C11: Remises en conformité PM
D12: Coût par intervention | E12: € | F12: 2500
D13: Part des PM concernés | E13: %/an | F13: 0.15
C14: Audits et maintenance PBO
D15: Coût par intervention | E15: € | F15: 80
D16: Part des PBO concernés | E16: %/an | F16: 0.01
C17: Coûts indirects
D18: Batiments, énergie, etc. | E18: %/autres coûts | F18: 0.2
B21: Maintenance curative
C22: Coûts unitaires maintenance
D23: Coût chargé - Technicien de maintenance | E23: €/h | F23: 79.250975
D24: Coûts de matériel | E24: €/intervention | F24: 30
D25: Conduite d'activité | E25: €/intervention | F25: 32
C26: Temps d'intervention
D27: Temps moyen d'une intervention | E27: h | F27: 2.5
D28: Nombre moyen de technicien(s) par intervention | E28: tech. | F28: 1.75
D29: Markup temps de préparation sur l'intervention | E29: % | F29: 0.2
C30: Estimation du nombre d'interventions
D31: Coefficient PBO | F31: 0.028
D32: Coefficient activité annuelle PM | F32: 0.055
D33: Coefficient linéaire aérien & vents forts | F33: 0.0012
D34: Coefficient linéaire aérien & neige | F34: 0.0004
C35: Coûts indirects
D36: SI réseau | E36: €/an | F36: 2000000
D37: Batiments, énergie, etc. | E37: %/autres coûts | F37: 0.2
B40: Génie civil hors Orange
C41: Enedis
D42: Coût annualisé | E42: €/an/appui | F42: 9.78 | G42: à ajuster en fonctiion des dates de commandes d'appuis Enedis
C43: Maintenance du GC construit en propre
D44: Coût de maintenance de conduite | E44: €/ml/an | F44: 0.15
D45: Coût de maintenance d'un appui | E45: €/appui/an | F45: 10
C46: Location de GC à des tiers
D47: Coût de location de GC | E47: €/ml/an | G47: valeur entre 1,20€ et 2,00€
...

Sheet Données par OI
B1: Opérateur d'infrastructure / exploitant | C1: Code OI | D1: Code L. 33-1 | E1: Code Interop | F1: PBO | G1: PM | H1: Lignes actives | I1: Locaux raccordables | J1: Activité PM | K1: Linéaire aérien (km) | L1: Temps de trajet (h) | M1: Vent (nb jours avec plus de 16 m/s) | N1: Neige (cm annuel) | O1: Nouveaux locaux annuels | P1: Nb logements individuels isolés | Q1: Nb lotissements | R1: Nb immeubles collectifs | S1: Part du linéaire de câble sur le segment NRO-PM | T1: Nombre d'appuis Enedis | U1: Nombre d'appuis en propre | V1: Longueurs conduite en propre (km) | W1: Longueur GC tiers (km) | X1: Occupation GC amont PM (m3) | Y1: Part des accès sur ligne active depuis plus de 5 ans
B2: Altice France - Connect 76 | C2: SN | D2: CNCT | E2: SNMA | L2: 0.43210954 | M2: 46.305 | N2: 1.485 | O2: 1810.729 | P2: 998.36411 | Q2: 53.665382 | R2: 19.456261
B3: Altice France - Corsica Fibra | C3: CS | D3: CORF | E3: CORS | L3: 0.68508324 | M3: 61.89 | N3: 13.03 | O3: 3160.1386 | P3: 1091.7133 | Q3: 53.705017 | R3: 87.643495
B4: Altice France - Essonne numérique Très Haut Débit | C4: ES | D4: ENTH | E4: ENTH | L4: 0.28902555 | M4: 14.66 | N4: 6.65 | O4: 1315.5452 | P4: 442.20093 | Q4: 26.402209 | R4: 28.885611
B5: Altice France - Eure et Loir THD | C5: EL | D5: EULH | E5: EULH | L5: 0.40935057 | M5: 26.805 | N5: 1.66 | O5: 595.93562 | P5: 312.51757 | Q5: 13.540185 | R5: 11.18583
B6: Altice France - Hérault THD | C6: HT | D6: DSPT | E6: HTHD | L6: 0.41987274 | M6: 63.89 | N6: 8.33 | O6: 2901.2546 | P6: 1083.0909 | Q6: 84.215577 | R6: 51.684568
B7: Altice France - Isère Fibre | C7: IS | D7: ISER | E7: ISER | L7: 0.40270529 | M7: 28.62 | N7: 242.68 | O7: 4261.2695 | P7: 1719.919 | Q7: 111.35355 | R7: 96.557804
B8: Altice France - Loiret Fibre | C8: LF | D8: LOFI | E8: LOFI | L8: 0.46292869 | M8: 20.68 | N8: 2.31 | O8: 729.13804 | P8: 455.56645 | Q8: 24.656732 | R8: 6.8141688
B9: Altice France - Loiret THD | C9: LO | D9: LOIR | E9: LOIR | L9: 0.40917653 | M9: 20.68 | N9: 2.31 | O9: 623.85762 | P9: 321.998 | Q9: 19.829128 | R9: 6.9267807
B10: Altice France - Oise Numérique | C10: ON | D10: ONUM | E10: ONUM | L10: 0.32874392 | M10: 28.83 | N10: 5.2 | O10: 2114.383 | P10: 1036.3062 | Q10: 42.864245 | R10: 38.941411
B11: Altice France - Seine-et-Marne THD | C11: SF | D11: SMTH | E11: SMTH | L11: 0.31537118 | M11: 22.73 | N11: 4.94 | O11: 3421.3832 | P11: 1140.0691 | Q11: 57.219799 | R11: 68.172196
B12: Altice France - Tarn Fibre | C12: TR | D12: TARN | E12: TARN | L12: 0.47219956 | M12: 42.68 | N12: 20.47 | O12: 1282.3761 | P12: 745.41297 | Q12: 44.902258 | R12: 14.521112
B13: Altice France - THD64 | C13: TH | D13: THDD | E13: THDD | L13: 0.46166397 | M13: 51.29 | N13: 147.25 | O13: 2614.2714 | P13: 1267.5546 | Q13: 61.660368 | R13: 55.250736
... B58: Nouvelle-Aquitaine THD | C58: NA | D58: LFNA | E58: NATH | L58: 0.51315537 | M58: 17.488571 | N58: 4.9557143 | O58: 4629.59 | P58: 3045.2159 | Q58: 103.60162 | R58: 42.802677

Sheet 2. Calculs par brique

Sheet Maintenance préventive
B2: Calcul du coût de maintenance préventive
C4: Coûts directs
D5: Nombre de PM | E5: # | F5: =INDEX('Données par OI'!$G$2:$G$58,MATCH(Synthèse!$E$4,'Données par OI'!$C$2:$C$58,0)) -> 0
D6: Nombre de PBO | E6: # | F6: ='Maintenance curative'!E5 -> 0
E8: Volume annuel | F8: Coût unitaire
D9: Maintenance et audit PM | E9: =F5*'Données générales'!F10 -> 0 | F9: ='Données générales'!F9 -> 150
D10: Remise en conformité PM | E10: =F5*'Données générales'!F13 -> 0 | F10: ='Données générales'!F12 -> 2500
D11: Maintenance et audit PBO | E11: =F6*'Données générales'!F16 -> 0 | F11: ='Données générales'!F15 -> 80
D13: Total coûts directs | E13: €/an | F13: =SUMPRODUCT(E9:E11,F9:F11) -> 0
C15: Coûts indirects
D16: Part de coûts indirects | E16: €/an | F16: =F13*'Données générales'!F18 -> 0
C18: Coûts totaux
D19: Annuel | F19: =F13+F16 -> 0

Sheet Maintenance curative
B2: Estimation du nombre d'interventions
D4: Paramètre | E4: Volume | F4: Coefficient
D5: PBO | E5: =INDEX('Données par OI'!$F$2:$F$58,MATCH(Synthèse!$E$4,'Données par OI'!$C$2:$C$58,0)) -> 0 | F5: ='Données générales'!F31 -> 0.028
D6: Activité PM | E6: =INDEX('Données par OI'!$J$2:$J$58,MATCH(Synthèse!$E$4,'Données par OI'!$C$2:$C$58,0)) -> 0 | F6: ='Données générales'!F32 -> 0.055
D7: Indicateur linéaire en aérien x vents forts | E7: =INDEX('Données par OI'!$K$2:$K$58,MATCH(Synthèse!$E$4,'Données par OI'!$C$2:$C$58,0))*INDEX('Données par OI'!$M$2:$M$58,MATCH(Synthèse!$E$4,'Données par OI'!$C$2:$C$58,0)) -> 0 | F7: ='Données générales'!F33 -> 0.0012
D8: Indicateur linéaire en aérien x neige | E8: =INDEX('Données par OI'!$K$2:$K$58,MATCH(Synthèse!$E$4,'Données par OI'!$C$2:$C$58,0))*INDEX('Données par OI'!$N$2:$N$58,MATCH(Synthèse!$E$4,'Données par OI'!$C$2:$C$58,0)) -> 0 | F8: ='Données générales'!F34 -> 0.0004
D10: Nombre d'interventions | E10: =SUMPRODUCT('Maintenance curative'!E5:E8,'Maintenance curative'!F5:F8) -> 0
B13: Estimation du temps moyen par intervention
D15: Durée moyenne d'une intervention | E15: heures | F15: ='Données générales'!F27 -> 2.5
D16: Durée moyenne de trajet par intervention | E16: heures | F16: =INDEX('Données par OI'!$L$2:$L$58,MATCH(Synthèse!$E$4,'Données par OI'!$C$2:$C$58,0)) -> 0.43210954
D17: Nombre moyen de technicien(s) par intervention | E17: tech. | F17: ='Données générales'!F28 -> 1.75
D19: Durée moyenne totale | E19: heures | F19: =F17*(F16+(1+'Données générales'!F29)*F15) -> 6.0061917
B22: Calcul du coût de maintenance curative
C23: Coûts directs
D24: Nombre d'interventions | F24: =E10 -> 0
D25: Durée moyenne totale | F25: =F19 -> 6.0061917
D26: Coût horaire technicien | F26: ='Données générales'!F23 -> 79.250975
D28: Coût main d'œuvre | F28: =F24*F25*F26 -> 0
D29: Coût matériel | F29: ='Données générales'!F24*'Maintenance curative'!F24 -> 0
D30: Coûts directs | F30: =F28+F29 -> 0
C32: Coûts indirects
D33: SI réseau | F33: ='Données générales'!F36*INDEX('Données par OI'!$I$2:$I$58,MATCH(Synthèse!E4,'Données par OI'!$C$2:$C$58,0))/'Données générales'!F4 -> 0
D34: Conduite d'activité | F34: =E10*'Données générales'!$F$25 -> 0
D35: Autres coûts indirects | F35: ='Données générales'!F37*'Maintenance curative'!F30 -> 0
D36: Coûts indirects | F36: =F33+F34+F35 -> 0
C38: Coûts totaux
D39: Annuel | F39: =F30+F36 -> 0

Sheet GC Orange (iBLO)
A1: Les cellules en vert sont modifiables/remplissables par l'utilisateur du modèle
A3: I. Estimation des tarifs d'abonnement mensuel d'accès aux infrastructures de génie civil de boucle locale optique d'Orange
B5: Tarifs de référence (tarifs entre le 1er mars 2026 et le 28 février 2027) | C5: Unité | D5: Tarif
B6: Abonnement mensuel déploiement massif | C6: €/accès programmé/mois | D6: 1.395
B7: Abonnement mensuel déploiement ponctuel | C7: €/cm²*m/mois | D7: 0.067
B9: Grandeur | C9: Unité | D9: Valeur
B10: Coûts spécifiques aux déploiements fibre en % des coûts transverses cuivre+fibre | C10: % | D10: 0.015
B11: Taux annuel de croissance du nombre d'accès programmés | C11: % par an
B12: Taux annuel de croissance du volume de déploiements non mutualisés | C12: % par an
B13: Année d'estimation des tarifs d'abonnement | C13: année | D13: 2026
C15: Chroniques | D15: unité | E15: 2026 | F15: 2027 | G15: 2028 | H15: 2029 | I15: 2030 | J15: 2031 | K15: 2032 | L15: 2033 | M15: 2034 | N15: 2035 | O15: 2036 | P15: 2037 | Q15: 2038 | R15: 2039 | S15: 2040 | T15: 2041 | U15: 2042 | V15: 2043 | W15: 2044 | X15: 2045 | Y15: 2046 | Z15: 2047 | AA15: 2048 | AB15: 2049 | AC15: 2050
C16: Taux d'inflation annuelle | D16: % par an
C17: Indice de passage des €2026 en euros courants (base 1 en 2026) | D17: N/A : indice rebasé | E17: 1 | F17: =E17*(1+E16)^(6/12)*(1+F16)^(6/12) -> 1 | G17: =F17*(1+F16)^(6/12)*(1+G16)^(6/12) -> 1 | H17: =G17*(1+G16)^(6/12)*(1+H16)^(6/12) -> 1 | I17: =H17*(1+H16)^(6/12)*(1+I16)^(6/12) -> 1 | J17: =I17*(1+I16)^(6/12)*(1+J16)^(6/12) -> 1 | K17: =J17*(1+J16)^(6/12)*(1+K16)^(6/12) -> 1 | L17: =K17*(1+K16)^(6/12)*(1+L16)^(6/12) -> 1 | M17: =L17*(1+L16)^(6/12)*(1+M16)^(6/12) -> 1 | ... AC17: =AB17*(1+AB16)^(6/12)*(1+AC16)^(6/12) -> 1
E19: 2026 | F19: 2027 | G19: 2028 | H19: 2029 | I19: 2030 | J19: 2031 | K19: 2032 | L19: 2033 | M19: 2034 | N19: 2035 | O19: 2036 | P19: 2037 | Q19: 2038 | R19: 2039 | S19: 2040 | T19: 2041 | U19: 2042 | V19: 2043 | W19: 2044 | X19: 2045 | Y19: 2046 | Z19: 2047 | AA19: 2048 | AB19: 2049 | AC19: 2050
D20: Chronique de coûts (base 100 en 2023) en € constants | E20: 118 | F20: 117.2 | G20: 115.2 | H20: 112.5 | I20: 109.9 | J20: 107.6 | K20: 105.8 | L20: 104.4 | M20: 103.1 | N20: 101.7 | O20: 99.9 | P20: 98.2 | Q20: 97 | R20: 95.9 | S20: 94.5 | T20: 93 | U20: 91.6 | V20: 90.5 | W20: 89.5 | X20: 88.1 | Y20: 86.7 | Z20: 85.8 | AA20: 85.1 | AB20: 84.5 | AC20: 84
D21: Chronique de coûts (base 100 en 2026) en € constants | E21: =E20/$E$20*100 -> 100 | F21: =F20/$E$20*100 -> 99.322034 | G21: =G20/$E$20*100 -> 97.627119 | H21: =H20/$E$20*100 -> 95.338983 | I21: =I20/$E$20*100 -> 93.135593 | J21: =J20/$E$20*100 -> 91.186441 | K21: =K20/$E$20*100 -> 89.661017 | L21: =L20/$E$20*100 -> 88.474576 | ... AC21: =AC20/$E$20*100 -> 71.186441
D22: Chronique d'indice de passage € constants en € courants | E22: =E17 -> 1 | F22: =F17 -> 1 | G22: =G17 -> 1 | H22: =H17 -> 1 | I22: =I17 -> 1 | J22: =J17 -> 1 | K22: =K17 -> 1 | L22: =L17 -> 1 | ... AC22: =AC17 -> 1
D23: Chronique de coûts (base 100 en 2026) en € courants | E23: =E21*E22 -> 100 | F23: =F21*F22 -> 99.322034 | G23: =G21*G22 -> 97.627119 | H23: =H21*H22 -> 95.338983 | I23: =I21*I22 -> 93.135593 | J23: =J21*J22 -> 91.186441 | K23: =K21*K22 -> 89.661017 | L23: =L21*L22 -> 88.474576 | ... AC23: =AC21*AC22 -> 71.186441
A25: ⚠ Afin de réaliser les projections des tarifs, les différentes données sont à estimer, en base 100, à mi année
A26: Source possible pour ces estimations : Observatoire haut et très haut débit : abonnements et déploiements
B27: Etape | C27: Grandeur estimée | D27: Unité | E27: 2026 | F27: 2027 | G27: 2028 | H27: 2029 | I27: 2030 | J27: 2031 | K27: 2032 | L27: 2033 | M27: 2034 | N27: 2035 | O27: 2036 | P27: 2037 | Q27: 2038 | R27: 2039 | S27: 2040 | T27: 2041 | U27: 2042 | V27: 2043 | W27: 2044 | X27: 2045 | Y27: 2046 | Z27: 2047 | AA27: 2048 | AB27: 2049 | AC27: 2050
B28: (a) | C28: Coûts de GC de boucle locale transverses cuivre+fibre | D28: N/A : montant rebasé | E28: =E23 -> 100 | F28: =F23 -> 99.322034 | G28: =G23 -> 97.627119 | H28: =H23 -> 95.338983 | I28: =I23 -> 93.135593 | J28: =J23 -> 91.186441 | K28: =K23 -> 89.661017 | L28: =L23 -> 88.474576 | ... AC28: =AC23 -> 71.186441
B29: (b) | C29: Clé d'allocation des coûts à la fibre | D29: N/A : montant rebasé | E29: 100
B30: (a') | C30: Coûts de GC de boucle locale spécifiques fibre | D30: N/A : montant rebasé | E30: =E28*$D$10 -> 1.5 | F30: =F28*$D$10 -> 1.4898305 | G30: =G28*$D$10 -> 1.4644068 | H30: =H28*$D$10 -> 1.4300847 | I30: =I28*$D$10 -> 1.3970339 | J30: =J28*$D$10 -> 1.3677966 | K30: =K28*$D$10 -> 1.3449153 | L30: =L28*$D$10 -> 1.3271186 | ... AC30: =AC28*$D$10 -> 1.0677966
B31: (c) | C31: % volume mutualisé | D31: N/A : montant rebasé | E31: 100
B32: (c') | C32: % volume non mutualisé | D32: N/A : montant rebasé | E32: 100
B33: (d) | C33: 1/nombre d'accès programmé | D33: N/A : montant rebasé | E33: 100 | F33: =$E$33/(1+$D$11)^(F27-$E$27) -> 100 | G33: =$E$33/(1+$D$11)^(G27-$E$27) -> 100 | H33: =$E$33/(1+$D$11)^(H27-$E$27) -> 100 | I33: =$E$33/(1+$D$11)^(I27-$E$27) -> 100 | J33: =$E$33/(1+$D$11)^(J27-$E$27) -> 100 | K33: =$E$33/(1+$D$11)^(K27-$E$27) -> 100 | L33: =$E$33/(1+$D$11)^(L27-$E$27) -> 100 | M33: =$E$33/(1+$D$11)^(M27-$E$27) -> 100 | ... AC33: =$E$33/(1+$D$11)^(AC27-$E$27) -> 100
B34: (d') | C34: 1/volume non mutualisé | D34: N/A : montant rebasé | E34: 100 | F34: =$E$34/(1+$D$12)^(F27-$E$27) -> 100 | G34: =$E$34/(1+$D$12)^(G27-$E$27) -> 100 | H34: =$E$34/(1+$D$12)^(H27-$E$27) -> 100 | I34: =$E$34/(1+$D$12)^(I27-$E$27) -> 100 | J34: =$E$34/(1+$D$12)^(J27-$E$27) -> 100 | K34: =$E$34/(1+$D$12)^(K27-$E$27) -> 100 | L34: =$E$34/(1+$D$12)^(L27-$E$27) -> 100 | M34: =$E$34/(1+$D$12)^(M27-$E$27) -> 100 | ... AC34: =$E$34/(1+$D$12)^(AC27-$E$27) -> 100
B36: [(a)*(b)+(a')]*(c)*(d) | C36: Tarif abonnement mensuel déploiement massif* | D36: N/A : montant rebasé | E36: =(E28*E29/100+E30)*E31*E33 -> 1015000 | F36: =(F28*F29/100+F30)*F31*F33 -> 0 | G36: =(G28*G29/100+G30)*G31*G33 -> 0 | H36: =(H28*H29/100+H30)*H31*H33 -> 0 | I36: =(I28*I29/100+I30)*I31*I33 -> 0 | J36: =(J28*J29/100+J30)*J31*J33 -> 0 | K36: =(K28*K29/100+K30)*K31*K33 -> 0 | L36: =(L28*L29/100+L30)*L31*L33 -> 0 | ... AC36: =(AC28*AC29/100+AC30)*AC31*AC33 -> 0
B37: (tarif mutualisé année n/tarif 2026)-1 | C37: Tarif abonnement mensuel déploiement massif : variation en % vs tarif 2026 | D37: N/A : montant rebasé | E37: =E36/$E$36-1 -> 0 | F37: =F36/$E$36-1 -> -1 | G37: =G36/$E$36-1 -> -1 | H37: =H36/$E$36-1 -> -1 | I37: =I36/$E$36-1 -> -1 | J37: =J36/$E$36-1 -> -1 | K37: =K36/$E$36-1 -> -1 | L37: =L36/$E$36-1 -> -1 | ... AC37: =AC36/$E$36-1 -> -1
B38: [(a)*(b)+(a')]*(c')*(d') | C38: Tarif abonnement mensuel déploiement ponctuel* | D38: N/A : montant rebasé | E38: =(E28*E29/100+E30)*E32*E34 -> 1015000 | F38: =(F28*F29/100+F30)*F32*F34 -> 0 | G38: =(G28*G29/100+G30)*G32*G34 -> 0 | H38: =(H28*H29/100+H30)*H32*H34 -> 0 | I38: =(I28*I29/100+I30)*I32*I34 -> 0 | J38: =(J28*J29/100+J30)*J32*J34 -> 0 | K38: =(K28*K29/100+K30)*K32*K34 -> 0 | L38: =(L28*L29/100+L30)*L32*L34 -> 0 | ... AC38: =(AC28*AC29/100+AC30)*AC32*AC34 -> 0
B39: (tarif non-mutualisé année n/tarif 2026)-1 | C39: Tarif abonnement mensuel déploiement ponctuel : variation en % vs tarif 2026 | D39: N/A : montant rebasé | E39: =E38/$E$38-1 -> 0 | F39: =F38/$E$38-1 -> -1 | G39: =G38/$E$38-1 -> -1 | H39: =H38/$E$38-1 -> -1 | I39: =I38/$E$38-1 -> -1 | J39: =J38/$E$38-1 -> -1 | K39: =K38/$E$38-1 -> -1 | L39: =L38/$E$38-1 -> -1 | ... AC39: =AC38/$E$38-1 -> -1
C41: Tarif abonnement mensuel déploiement massif* | D41: €/accès programmé/mois | E41: =(1+E37)*$D$6 -> 1.395 | F41: =(1+F37)*$D$6 -> 0 | G41: =(1+G37)*$D$6 -> 0 | H41: =(1+H37)*$D$6 -> 0 | I41: =(1+I37)*$D$6 -> 0 | J41: =(1+J37)*$D$6 -> 0 | K41: =(1+K37)*$D$6 -> 0 | L41: =(1+L37)*$D$6 -> 0 | ... AC41: =(1+AC37)*$D$6 -> 0
C42: Tarif abonnement mensuel déploiement ponctuel* | D42: €/cm²*m/mois | E42: =(1+E39)*$D$7 -> 0.067 | F42: =(1+F39)*$D$7 -> 0 | G42: =(1+G39)*$D$7 -> 0 | H42: =(1+H39)*$D$7 -> 0 | I42: =(1+I39)*$D$7 -> 0 | J42: =(1+J39)*$D$7 -> 0 | K42: =(1+K39)*$D$7 -> 0 | L42: =(1+L39)*$D$7 -> 0 | ... AC42: =(1+AC39)*$D$7 -> 0
C43: * Tarif entre début mars de l'année n et fin février de l'année n+1
A47: II. Détermination des coûts annuels d'accès aux infrastructures de génie civil de boucle locale optique d'Orange
B49: Tarif entre le 1er mars 2025 et le 28 février 2026 | C49: Unité | D49: Tarif
B50: abonnement mensuel déploiement massif | C50: €/accès programmé/mois | D50: 1.347
B51: abonnement mensuel déploiement ponctuel | C51: €/cm²*m/mois | D51: 0.07
C53: Grandeur | D53: Unité | E53: 2026 | F53: 2027 | G53: 2028 | H53: 2029 | I53: 2030 | J53: 2031 | K53: 2032 | L53: 2033 | M53: 2034 | N53: 2035 | O53: 2036 | P53: 2037 | Q53: 2038 | R53: 2039 | S53: 2040 | T53: 2041 | U53: 2042 | V53: 2043 | W53: 2044 | X53: 2045 | Y53: 2046 | Z53: 2047 | AA53: 2048 | AB53: 2049 | AC53: 2050
...

Sheet GC hors Orange
B2: Calcul du coût des appuis électriques Enedis
D4: Nombre d'appuis | E4: # | F4: =INDEX('Données par OI'!$T$2:$T$58,MATCH(Synthèse!$E$4,'Données par OI'!$C$2:$C$58,0)) -> 0
D5: Coût annualisé | E5: €/an/appui | F5: ='Données générales'!F42 -> 9.78
D7: Coût des appuis électriques Enedis | E7: €/an | F7: =F4*F5 -> 0
B10: Calcul du coût de maintenance du GC en propre
D12: Longueurs de conduites en propre | E12: km | F12: =INDEX('Données par OI'!$V$2:$V$58,MATCH(Synthèse!$E$4,'Données par OI'!$C$2:$C$58,0)) -> 0
D13: Coût de maintenance de conduite | E13: €/ml/an | F13: ='Données générales'!F44 -> 0.15
D14: Nombre d'appuis aériens en propre | E14: # | F14: =INDEX('Données par OI'!$U$2:$U$58,MATCH(Synthèse!$E$4,'Données par OI'!$C$2:$C$58,0)) -> 0
D15: Coût de maintenance de conduite | E15: €/appui/an | F15: ='Données générales'!F45 -> 10
D17: Coût de maintenance du GC en propre | E17: €/an | F17: =F12*F13*1000+F14*F15 -> 0
B20: Calcul du coût de location de GC tiers
D22: Longueur de GC tiers | E22: km | F22: =INDEX('Données par OI'!$W$2:$W$58,MATCH(Synthèse!$E$4,'Données par OI'!$C$2:$C$58,0)) -> 0
D23: Coût de location de GC | E23: €/ml/an | F23: ='Données générales'!F47 -> 0
D25: Coût de location de GC tiers | E25: €/an | F25: =F22*F23*1000 -> 0
B28: Calcul des coûts indirects
D30: Part de coûts indirects | E30: €/an | F30: =(F25+F17+F7)*'Données générales'!F49 -> 0
B33: Coûts totaux
C34: Annuel | F34: =F7+F17+F25+F30 -> 0

Sheet IFER
A1: Paramètres d'entrée
A3: 0.03 | B3: Frais de dégrèvement et de non-valeurs pris en charge par l'Etat et frais d'assiette et de recouvrement 2
A4: =R40 -> 27.33 | B4: Tarif de l'IFER applicable au 1er janvier de l'année 1
A6: Données de parc
A7: Total | J7: dont OC n°1 | K7: dont OC n°2 | L7: dont OC n°3 | M7: … | N7: …
A8: =INDEX('Données par OI'!$Y$2:$Y$58,MATCH(Synthèse!$E$4,'Données par OI'!$C$2:$C$58,0)) -> 0 | B8: Pourcentage des lignes actives installées jusqu'à l'utilisateur final depuis plus de 5 ans 3 | O8: %
A9: =INDEX('Données par OI'!$H$2:$H$58,MATCH(Synthèse!$E$4,'Données par OI'!$C$2:$C$58,0)) -> 0 | B9: Nombre de lignes actives au 1er janvier de l'année 4
A11: Coût IFER
A13: Total | J13: dont OC n°1 | K13: dont OC n°2 | L13: dont OC n°3 | M13: … | N13: …
A14: =$A$4*(1+$A$3)*A$8*A$9 -> 0 | B14: € | J14: =$A$4*(1+$A$3)*J$8*J$9 -> 0 | K14: =$A$4*(1+$A$3)*K$8*K$9 -> 0 | L14: =$A$4*(1+$A$3)*L$8*L$9 -> 0 | M14: =$A$4*(1+$A$3)*M$8*M$9 -> 0 | N14: =$A$4*(1+$A$3)*N$8*N$9 -> 0 | O14: €
A16: 1 Tarif fixé selon les modalités prévues à l'article 1599 quater B du Code général des impôts. Le tarif au 1er janvier 2026 s'établit à 27,33 € par ligne en service (Bofip)
A17: 2 Taux prévus par l'article 1641 du Code général des impôts. l'Etat prélève 3% du montant de l'IFER au titre d'une part des frais de dégrèvement et non-valeurs (2% du montant de l'IFER) et d'autre part des frais d'assiette et de recouvrement (1% du montant de l'IFER).
A18: 3 voir Annexe ci-dessous (Bofip)
A19: 4 le montant de l'imposition est fonction du nombre de lignes en service que l'équipement comporte au 1er janvier de l'année d'imposition
A21: Annexe - Exonération temporaire pour les nouvelles lignes et historique du barème fiscal
A22: Bofip | B22: BOI-TFP-IFER-90 - TFP - IFER sur les répartiteurs principaux de la boucle locale cuivre et sur les réseaux de communications électroniques en fibre optique et en câble coaxial | bofip.impots.gouv.fr
A24: " A compter des impositions dues au titre de 2019, une ligne raccordée par un répartiteur principal, un point de mutualisation ou un nœud de raccordement optique n'est pas prise en compte dans le calcul du montant de l'imposaition de l'équipement pendant les cinq années suivant celle de la première installation jusqu'à l'utilisation final. Cette exonération de cinq ans pour les nouvelles lignes concerne non seulement toutes le slignes construites à compter de 2019, mais également toutes celles qui auront moins de cinq ans à cette même date. Pour les impositions dues au titre de 2019, seront exonérées toutes les lignes installées et mises en service après le 1er janvier 2014. Puis, l'année suivante, l'exonération ne s'appliquera plus qu'aux lignes installées et mises en service après le 1er janvier 2015. les lignes installées et mises en service en 2014 bénéficieront donc d'une exonération d'un an, en 2019; les lignes installées et mises en service en 2015 d'une exonération de deux ans, en 2019 et 2020; les lignes installées et mises en service en 2016 d'une éxonération de trois ans, de 2019 à 2021; les lignes installées et mises en service en 2017 d'une exonération de quatre ans, de 2019 à 2022; les lignes installées et mises en service en 2018 d'une exonération de cinq ans, de 2019 à 2023, etc ".
A37: Tarif unitaire de l’IFER : historique [2014-2026] (source : BOFIP) et projections [2027-2030] (source : évaluations préalables des articles du projet de loi de finances pour 2024)
S38: Projections - évaluations préalables des articles du projet de loi de finances pour 2024
F39: 2014 | G39: 2015 | H39: 2016 | I39: 2017 | J39: 2018 | K39: 2019 | L39: 2020 | M39: 2021 | N39: 2022 | O39: 2023 | P39: 2024 | Q39: 2025 | R39: 2026 | S39: 2027 | T39: 2028 | U39: 2029 | V39: 2030
A40: tarif unitaire applicable au 1er janvier par ligne en service | F40: 5.06 | G40: 7.59 | H40: 10.12 | I40: 12.65 | J40: 12.87 | K40: 12.87 | L40: 14.08 | M40: 14.83 | N40: 16.32 | O40: 19.04 | P40: 21.19 | Q40: 24.21 | R40: 27.33 | S40: 27.42 | T40: 27.08 | U40: 22.47 | V40: 19.32
A41: références BOFIP | F41: 1 | L41: 2 | M41: 3 | N41: 4 | O41: 5 | P41: 6 | Q41: 7 | R41: 8 | S41: 9
A43: Références BOFIP
A44: 1 | B44: BOI-TFP-IFER-90 - TFP - IFER sur les répartiteurs principaux de la boucle locale cuivre et certains équipements de commutation téléphonique | bofip.impots.gouv.fr
A45: 2 | B45: BOI-TFP-IFER-90 - TFP - IFER sur les répartiteurs principaux de la boucle locale cuivre et sur les réseaux de communications électroniques en fibre optique et en câble coaxial | bofip.impots.gouv.fr
A46: 3 | B46: BOI-TFP-IFER-90 - TFP - IFER sur les répartiteurs principaux de la boucle locale cuivre et sur les réseaux de communications électroniques en fibre optique et en câble coaxial | bofip.impots.gouv.fr
A47: 4 | B47: BOI-TFP-IFER-90 - TFP - IFER sur les répartiteurs principaux de la boucle locale cuivre et sur les réseaux de communications électroniques en fibre optique et en câble coaxial | bofip.impots.gouv.fr
A48: 5 | B48: BOI-TFP-IFER-90 - TFP - IFER sur les répartiteurs principaux de la boucle locale cuivre et sur les réseaux de communications électroniques en fibre optique et en câble coaxial | bofip.impots.gouv.fr
A49: 6 | B49: BOI-TFP-IFER-90 - TFP - IFER sur les répartiteurs principaux de la boucle locale cuivre et sur les réseaux de communications électroniques en fibre optique et en câble coaxial | bofip.impots.gouv.fr
A50: 7 | B50: BOI-TFP-IFER-90 - TFP - IFER sur les répartiteurs principaux de la boucle locale cuivre et sur les réseaux de communications électroniques en fibre optique et en câble coaxial | bofip.impots.gouv.fr
A51: 8 | B51: BOI-TFP-IFER-90 - TFP - IFER sur les répartiteurs principaux de la boucle locale cuivre et sur les réseaux de communications électroniques en fibre optique et en câble coaxial | bofip.impots.gouv.fr
A52: 9 | B52: PLF 2024_Evaluations prealables.pdf (voir pages 197 à 204 , option n°1)

Sheet Autres briques
B2: Commercialisation au gros
C4: Equipes ADV, responsables de comptes, contrats
D5: Nombre d'ETP | E5: # | F5: ='Données générales'!F54 -> 22
D6: Coût chargé annuel | E6: €/an | F6: ='Données générales'!F55 -> 160000
D7: Coût total équipes | E7: €/an | F7: =F5*F6 -> 3520000
C9: SI Commercialisation
D10: Coût annuel SI | E10: €/an | F10: ='Données générales'!F57 -> 2000000
C12: Communication
D13: Coût annuel communication | E13: €/an | F13: 500000
C15: Coûts directs
D16: Coûts mutualisés | E16: €/an | F16: =F7+F10+F13 -> 6020000
D17: Part de l'OI | E17: €/an | F17: =F16*INDEX('Données par OI'!$I$2:$I$58,MATCH(Synthèse!E4,'Données par OI'!$C$2:$C$58,0))/'Données générales'!F4 -> 0
C19: Coûts indirects
D20: Part de coûts indirects | E20: €/an | F20: =F17*'Données générales'!F49 -> 0
C22: Coûts totaux
D23: Annuel | E23: €/an | F23: =F17+F20 -> 0
B26: RODP et fiscalité hors IFER
C27: CFE, C3S et CVAE
D28: Autres coûts | E28: €/an | F28: ='Maintenance curative'!F39+'Maintenance préventive'!F19+'GC hors Orange'!F34+'Autres briques'!F23 -> 0
D29: Coefficient | E29: % | F29: ='Données générales'!F66 -> 0.015
C31: RODP
D32: Aérien | E32: €/an | F32: ='Données générales'!F68*'GC hors Orange'!F14*50/1000 -> 0
D33: Souterrain | E33: €/an | F33: ='GC hors Orange'!F12*'Données générales'!F69 -> 0
D34: PM | E34: €/an | F34: ='Maintenance préventive'!F5*'Données générales'!F71*'Données générales'!F70 -> 0
C36: Coûts de gestion | E36: €/an | F36: =(F28*F29+SUM(F32:F34))*'Données générales'!F73 -> 0
C38: Coûts de Fiscalité hors IFER | E38: €/an | F38: =F28*F29+SUM(F32:F34)+F36 -> 0
B41: Coûts de structure indivis
D43: Autres coûts | E43: €/an | F43: ='Maintenance curative'!F39+'Maintenance préventive'!F19+'GC hors Orange'!F34+'Autres briques'!F23+F38 -> 0
D44: Coefficient | E44: % | F44: ='Données générales'!F88 -> 0.08
D45: Coûts de structure indivis | E45: €/an | F45: =F43*F44 -> 0

Sheet Extensions
B2: Extensions
C4: Volumes
D5: Nombre annuel de nouveaux locaux | E5: #/an | F5: =INDEX('Données par OI'!$O$2:$O$58,MATCH(Synthèse!E4,'Données par OI'!$C$2:$C$58,0)) -> 1810.729
D6: Nombre de nouveaux logements individuels isolés | E6: #/an | F6: =INDEX('Données par OI'!$P$2:$P$58,MATCH(Synthèse!E4,'Données par OI'!$C$2:$C$58,0)) -> 998.36411
D7: Nombre de nouveaux immeubles collectifs | E7: #/an | F7: =INDEX('Données par OI'!$Q$2:$Q$58,MATCH(Synthèse!E4,'Données par OI'!$C$2:$C$58,0)) -> 53.665382
D8: Nombre de nouveaux lotissements | E8: #/an | F8: =INDEX('Données par OI'!$R$2:$R$58,MATCH(Synthèse!E4,'Données par OI'!$C$2:$C$58,0)) -> 19.456261
C10: Coûts
D11: Coûts fibre | E11: €/an | F11: =F5*'Données générales'!F78 -> 362145.79
D12: Coûts génie civil | E12: €/an | F12: =SUM(F6:F8)*'Données générales'!F80*'Données générales'!F81 -> 267871.44
D13: Coûts pilotage | E13: €/an | F13: =F5*'Données générales'!F83 -> 108643.74
C15: Coûts totaux
D16: Annuel | E16: €/an | F16: =SUM(F11:F13) -> 738660.97
